{"text_format":"1","workbook":"xlsx","n_sheets":5,"sheets":["Messwerte","Diagramm","KF-Plus-Produkte","Balling","Erklärung"],"not_rendered":{"charts":6,"images":2,"macros":1,"external_links":0,"defined_names":8,"comments":1,"pivot_tables":0},"unopened":[],"bounds":{"document_bytes":16777216,"sheet_cells":100000,"rows_first":2000,"rows_last":500,"rows_between":2000,"halvings":0,"cell_chars":16384,"cell_head_chars":4096},"cells_cut":0,"cells_raw":0,"read":"whole","date_system":"1900"}

{"sheet":"Messwerte","index":0,"n_rows":58,"n_cols":17,"rows_kept":58,"cut":false,"hidden":false,"merged":[[8,15,8,16],[1,3,2,5],[4,3,5,5],[1,7,2,11],[4,7,5,11],[8,13,8,14]]}
[]
[null,null,null,"Aquarienbezeichnung:",null,null,null,"Wohnzimmer",null,null,null,null,null,null,null,null,"Korallenfarm.at"]
[null,null,null,null,null,null,null,null,null,null,null,null,null,null,null,null,"Ihr Spezialist für Nachzuchtkorallen aus Österreich"]
[null,null,null,null,null,null,null,null,null,null,null,null,null,null,null,null,"1120 Wien, Stranitzkygasse 5"]
[null,null,null,"Beckenvolumen:",null,null,null,500,null,null,null,null,null,null,null,null,"0664/3972620"]
[null,null,null,null,null,null,null,null,null,null,null,null,null,null,null,null,"info@korallenfarm.at"]
[null,null,null,null,null,null,null,null,null,null,null,null,null,null,null,null,"www.korallenfarm.at"]
[]
["Soll-Werte",420,null,8,null,1350,null,390,null,"< 0,1",null,"<1,0",null,"Calzium ausgleichen\n(max 20mg/Tag)",null,"kH ausgleichen\n(max. 1°kH/Tag)"]
["Datum","Ca","Calzium2","kH","Karbonathärte","Mg","Magnesium","K","Kalium","PO4","Phosphat","NO3","Nitrat","Salz:\nCalziumchlorid-dihydrat","Balling-flüssigkeit:\nCalzium ","Salz:\nNatrium-hydrogen-carbonat","Balling-flüssigkeit:\nkH"]
["2017-12-12",420,{"$f":"IF(Tabelle3[[#This Row],[Ca]]>0,Tabelle3[[#This Row],[Ca]],#N/A)","v":420},8,{"$f":"IF(Tabelle3[[#This Row],[kH]]>0,Tabelle3[[#This Row],[kH]],#N/A)","v":8},1350,{"$f":"IF(Tabelle3[[#This Row],[Mg]]>0,Tabelle3[[#This Row],[Mg]],#N/A)","v":1350},390,{"$f":"IF(Tabelle3[[#This Row],[K]]>0,Tabelle3[[#This Row],[K]],#N/A)","v":390},0.01,{"$f":"IF(Tabelle3[[#This Row],[PO4]]>0,Tabelle3[[#This Row],[PO4]],#N/A)","v":0.01},1,{"$f":"IF(Tabelle3[[#This Row],[NO3]]>0,Tabelle3[[#This Row],[NO3]],#N/A)","v":1},{"$f":"IF(B11<>\"\",Volumen*(CaSoll-B11)*CaFaktor,\"\")","v":0},{"$f":"IF(N11<> \"\",(N11/Balling!$E$15)*1000,\"\")","v":0},{"$f":"IF(B11<>\"\",Volumen*(kHSoll-D11)*(kHFaktor/1000),\"\")","v":0},{"$f":"IF(P11<> \"\",(P11/Balling!$E$17)*1000,\"\")","v":0}]
["2018-01-01",400,null,7,null,1100,{"$f":"IF(Tabelle3[[#This Row],[Mg]]>0,Tabelle3[[#This Row],[Mg]],#N/A)","v":1100},370,{"$f":"IF(Tabelle3[[#This Row],[K]]>0,Tabelle3[[#This Row],[K]],#N/A)","v":370},0.02,{"$f":"IF(Tabelle3[[#This Row],[PO4]]>0,Tabelle3[[#This Row],[PO4]],#N/A)","v":0.02},1.2,{"$f":"IF(Tabelle3[[#This Row],[NO3]]>0,Tabelle3[[#This Row],[NO3]],#N/A)","v":1.2},{"$f":"IF(B12<>\"\",Volumen*(CaSoll-B12)*CaFaktor,\"\")","v":36.700000000000003},{"$f":"IF(N12<> \"\",(N12/Balling!$E$15)*1000,\"\")","v":498.64130434782618},15.1,{"$f":"IF(P12<> \"\",(P12/Balling!$E$17)*1000,\"\")","v":179.76190476190476}]
["2018-02-01",440,{"$f":"IF(Tabelle3[[#This Row],[Ca]]>0,Tabelle3[[#This Row],[Ca]],#N/A)","v":440},9,{"$f":"IF(Tabelle3[[#This Row],[kH]]>0,Tabelle3[[#This Row],[kH]],#N/A)","v":9},1200,{"$f":"IF(Tabelle3[[#This Row],[Mg]]>0,Tabelle3[[#This Row],[Mg]],#N/A)","v":1200},null,{"$f":"IF(Tabelle3[[#This Row],[K]]>0,Tabelle3[[#This Row],[K]],#N/A)","v":{"$error":"#N/A"}},null,{"$f":"IF(Tabelle3[[#This Row],[PO4]]>0,Tabelle3[[#This Row],[PO4]],#N/A)","v":{"$error":"#N/A"}},null,{"$f":"IF(Tabelle3[[#This Row],[NO3]]>0,Tabelle3[[#This Row],[NO3]],#N/A)","v":{"$error":"#N/A"}},-36.700000000000003,{"$f":"IF(N13<> \"\",(N13/Balling!$E$15)*1000,\"\")","v":-498.64130434782618},-15.1,{"$f":"IF(P13<> \"\",(P13/Balling!$E$17)*1000,\"\")","v":-179.76190476190476}]
[null,null,{"$f":"IF(Tabelle3[[#This Row],[Ca]]>0,Tabelle3[[#This Row],[Ca]],#N/A)","v":{"$error":"#N/A"}},null,{"$f":"IF(Tabelle3[[#This Row],[kH]]>0,Tabelle3[[#This Row],[kH]],#N/A)","v":{"$error":"#N/A"}},null,{"$f":"IF(Tabelle3[[#This Row],[Mg]]>0,Tabelle3[[#This Row],[Mg]],#N/A)","v":{"$error":"#N/A"}},null,{"$f":"IF(Tabelle3[[#This Row],[K]]>0,Tabelle3[[#This Row],[K]],#N/A)","v":{"$error":"#N/A"}},null,{"$f":"IF(Tabelle3[[#This Row],[PO4]]>0,Tabelle3[[#This Row],[PO4]],#N/A)","v":{"$error":"#N/A"}},null,{"$f":"IF(Tabelle3[[#This Row],[NO3]]>0,Tabelle3[[#This Row],[NO3]],#N/A)","v":{"$error":"#N/A"}},"",{"$f":"IF(N14<> \"\",(N14/Balling!$E$15)*1000,\"\")","v":""},"",{"$f":"IF(P14<> \"\",(P14/Balling!$E$17)*1000,\"\")","v":""}]
[null,null,{"$f":"IF(Tabelle3[[#This Row],[Ca]]>0,Tabelle3[[#This Row],[Ca]],#N/A)","v":{"$error":"#N/A"}},null,{"$f":"IF(Tabelle3[[#This Row],[kH]]>0,Tabelle3[[#This Row],[kH]],#N/A)","v":{"$error":"#N/A"}},null,{"$f":"IF(Tabelle3[[#This Row],[Mg]]>0,Tabelle3[[#This Row],[Mg]],#N/A)","v":{"$error":"#N/A"}},null,{"$f":"IF(Tabelle3[[#This Row],[K]]>0,Tabelle3[[#This Row],[K]],#N/A)","v":{"$error":"#N/A"}},null,{"$f":"IF(Tabelle3[[#This Row],[PO4]]>0,Tabelle3[[#This Row],[PO4]],#N/A)","v":{"$error":"#N/A"}},null,{"$f":"IF(Tabelle3[[#This Row],[NO3]]>0,Tabelle3[[#This Row],[NO3]],#N/A)","v":{"$error":"#N/A"}},"",{"$f":"IF(N15<> \"\",(N15/Balling!$E$15)*1000,\"\")","v":""},"",{"$f":"IF(P15<> \"\",(P15/Balling!$E$17)*1000,\"\")","v":""}]
[null,null,{"$f":"IF(Tabelle3[[#This Row],[Ca]]>0,Tabelle3[[#This Row],[Ca]],#N/A)","v":{"$error":"#N/A"}},null,{"$f":"IF(Tabelle3[[#This Row],[kH]]>0,Tabelle3[[#This Row],[kH]],#N/A)","v":{"$error":"#N/A"}},null,{"$f":"IF(Tabelle3[[#This Row],[Mg]]>0,Tabelle3[[#This Row],[Mg]],#N/A)","v":{"$error":"#N/A"}},null,{"$f":"IF(Tabelle3[[#This Row],[K]]>0,Tabelle3[[#This Row],[K]],#N/A)","v":{"$error":"#N/A"}},null,{"$f":"IF(Tabelle3[[#This Row],[PO4]]>0,Tabelle3[[#This Row],[PO4]],#N/A)","v":{"$error":"#N/A"}},null,{"$f":"IF(Tabelle3[[#This Row],[NO3]]>0,Tabelle3[[#This Row],[NO3]],#N/A)","v":{"$error":"#N/A"}},"",{"$f":"IF(N16<> \"\",(N16/Balling!$E$15)*1000,\"\")","v":""},"",{"$f":"IF(P16<> \"\",(P16/Balling!$E$17)*1000,\"\")","v":""}]
[null,null,{"$f":"IF(Tabelle3[[#This Row],[Ca]]>0,Tabelle3[[#This Row],[Ca]],#N/A)","v":{"$error":"#N/A"}},null,{"$f":"IF(Tabelle3[[#This Row],[kH]]>0,Tabelle3[[#This Row],[kH]],#N/A)","v":{"$error":"#N/A"}},null,{"$f":"IF(Tabelle3[[#This Row],[Mg]]>0,Tabelle3[[#This Row],[Mg]],#N/A)","v":{"$error":"#N/A"}},null,{"$f":"IF(Tabelle3[[#This Row],[K]]>0,Tabelle3[[#This Row],[K]],#N/A)","v":{"$error":"#N/A"}},null,{"$f":"IF(Tabelle3[[#This Row],[PO4]]>0,Tabelle3[[#This Row],[PO4]],#N/A)","v":{"$error":"#N/A"}},null,{"$f":"IF(Tabelle3[[#This Row],[NO3]]>0,Tabelle3[[#This Row],[NO3]],#N/A)","v":{"$error":"#N/A"}},"",{"$f":"IF(N17<> \"\",(N17/Balling!$E$15)*1000,\"\")","v":""},"",{"$f":"IF(P17<> \"\",(P17/Balling!$E$17)*1000,\"\")","v":""}]
[null,null,{"$f":"IF(Tabelle3[[#This Row],[Ca]]>0,Tabelle3[[#This Row],[Ca]],#N/A)","v":{"$error":"#N/A"}},null,{"$f":"IF(Tabelle3[[#This Row],[kH]]>0,Tabelle3[[#This Row],[kH]],#N/A)","v":{"$error":"#N/A"}},null,{"$f":"IF(Tabelle3[[#This Row],[Mg]]>0,Tabelle3[[#This Row],[Mg]],#N/A)","v":{"$error":"#N/A"}},null,{"$f":"IF(Tabelle3[[#This Row],[K]]>0,Tabelle3[[#This Row],[K]],#N/A)","v":{"$error":"#N/A"}},null,{"$f":"IF(Tabelle3[[#This Row],[PO4]]>0,Tabelle3[[#This Row],[PO4]],#N/A)","v":{"$error":"#N/A"}},null,{"$f":"IF(Tabelle3[[#This Row],[NO3]]>0,Tabelle3[[#This Row],[NO3]],#N/A)","v":{"$error":"#N/A"}},"",{"$f":"IF(N18<> \"\",(N18/Balling!$E$15)*1000,\"\")","v":""},"",{"$f":"IF(P18<> \"\",(P18/Balling!$E$17)*1000,\"\")","v":""}]
[null,null,{"$f":"IF(Tabelle3[[#This Row],[Ca]]>0,Tabelle3[[#This Row],[Ca]],#N/A)","v":{"$error":"#N/A"}},null,{"$f":"IF(Tabelle3[[#This Row],[kH]]>0,Tabelle3[[#This Row],[kH]],#N/A)","v":{"$error":"#N/A"}},null,{"$f":"IF(Tabelle3[[#This Row],[Mg]]>0,Tabelle3[[#This Row],[Mg]],#N/A)","v":{"$error":"#N/A"}},null,{"$f":"IF(Tabelle3[[#This Row],[K]]>0,Tabelle3[[#This Row],[K]],#N/A)","v":{"$error":"#N/A"}},null,{"$f":"IF(Tabelle3[[#This Row],[PO4]]>0,Tabelle3[[#This Row],[PO4]],#N/A)","v":{"$error":"#N/A"}},null,{"$f":"IF(Tabelle3[[#This Row],[NO3]]>0,Tabelle3[[#This Row],[NO3]],#N/A)","v":{"$error":"#N/A"}},"",{"$f":"IF(N19<> \"\",(N19/Balling!$E$15)*1000,\"\")","v":""},"",{"$f":"IF(P19<> \"\",(P19/Balling!$E$17)*1000,\"\")","v":""}]
[null,null,{"$f":"IF(Tabelle3[[#This Row],[Ca]]>0,Tabelle3[[#This Row],[Ca]],#N/A)","v":{"$error":"#N/A"}},null,{"$f":"IF(Tabelle3[[#This Row],[kH]]>0,Tabelle3[[#This Row],[kH]],#N/A)","v":{"$error":"#N/A"}},null,{"$f":"IF(Tabelle3[[#This Row],[Mg]]>0,Tabelle3[[#This Row],[Mg]],#N/A)","v":{"$error":"#N/A"}},null,{"$f":"IF(Tabelle3[[#This Row],[K]]>0,Tabelle3[[#This Row],[K]],#N/A)","v":{"$error":"#N/A"}},null,{"$f":"IF(Tabelle3[[#This Row],[PO4]]>0,Tabelle3[[#This Row],[PO4]],#N/A)","v":{"$error":"#N/A"}},null,{"$f":"IF(Tabelle3[[#This Row],[NO3]]>0,Tabelle3[[#This Row],[NO3]],#N/A)","v":{"$error":"#N/A"}},"",{"$f":"IF(N20<> \"\",(N20/Balling!$E$15)*1000,\"\")","v":""},"",{"$f":"IF(P20<> \"\",(P20/Balling!$E$17)*1000,\"\")","v":""}]
[null,null,{"$f":"IF(Tabelle3[[#This Row],[Ca]]>0,Tabelle3[[#This Row],[Ca]],#N/A)","v":{"$error":"#N/A"}},null,{"$f":"IF(Tabelle3[[#This Row],[kH]]>0,Tabelle3[[#This Row],[kH]],#N/A)","v":{"$error":"#N/A"}},null,{"$f":"IF(Tabelle3[[#This Row],[Mg]]>0,Tabelle3[[#This Row],[Mg]],#N/A)","v":{"$error":"#N/A"}},null,{"$f":"IF(Tabelle3[[#This Row],[K]]>0,Tabelle3[[#This Row],[K]],#N/A)","v":{"$error":"#N/A"}},null,{"$f":"IF(Tabelle3[[#This Row],[PO4]]>0,Tabelle3[[#This Row],[PO4]],#N/A)","v":{"$error":"#N/A"}},null,{"$f":"IF(Tabelle3[[#This Row],[NO3]]>0,Tabelle3[[#This Row],[NO3]],#N/A)","v":{"$error":"#N/A"}},"",{"$f":"IF(N21<> \"\",(N21/Balling!$E$15)*1000,\"\")","v":""},"",{"$f":"IF(P21<> \"\",(P21/Balling!$E$17)*1000,\"\")","v":""}]
[null,null,{"$f":"IF(Tabelle3[[#This Row],[Ca]]>0,Tabelle3[[#This Row],[Ca]],#N/A)","v":{"$error":"#N/A"}},null,{"$f":"IF(Tabelle3[[#This Row],[kH]]>0,Tabelle3[[#This Row],[kH]],#N/A)","v":{"$error":"#N/A"}},null,{"$f":"IF(Tabelle3[[#This Row],[Mg]]>0,Tabelle3[[#This Row],[Mg]],#N/A)","v":{"$error":"#N/A"}},null,{"$f":"IF(Tabelle3[[#This Row],[K]]>0,Tabelle3[[#This Row],[K]],#N/A)","v":{"$error":"#N/A"}},null,{"$f":"IF(Tabelle3[[#This Row],[PO4]]>0,Tabelle3[[#This Row],[PO4]],#N/A)","v":{"$error":"#N/A"}},null,{"$f":"IF(Tabelle3[[#This Row],[NO3]]>0,Tabelle3[[#This Row],[NO3]],#N/A)","v":{"$error":"#N/A"}},"",{"$f":"IF(N22<> \"\",(N22/Balling!$E$15)*1000,\"\")","v":""},"",{"$f":"IF(P22<> \"\",(P22/Balling!$E$17)*1000,\"\")","v":""}]
[null,null,{"$f":"IF(Tabelle3[[#This Row],[Ca]]>0,Tabelle3[[#This Row],[Ca]],#N/A)","v":{"$error":"#N/A"}},null,{"$f":"IF(Tabelle3[[#This Row],[kH]]>0,Tabelle3[[#This Row],[kH]],#N/A)","v":{"$error":"#N/A"}},null,{"$f":"IF(Tabelle3[[#This Row],[Mg]]>0,Tabelle3[[#This Row],[Mg]],#N/A)","v":{"$error":"#N/A"}},null,{"$f":"IF(Tabelle3[[#This Row],[K]]>0,Tabelle3[[#This Row],[K]],#N/A)","v":{"$error":"#N/A"}},null,{"$f":"IF(Tabelle3[[#This Row],[PO4]]>0,Tabelle3[[#This Row],[PO4]],#N/A)","v":{"$error":"#N/A"}},null,{"$f":"IF(Tabelle3[[#This Row],[NO3]]>0,Tabelle3[[#This Row],[NO3]],#N/A)","v":{"$error":"#N/A"}},"",{"$f":"IF(N23<> \"\",(N23/Balling!$E$15)*1000,\"\")","v":""},"",{"$f":"IF(P23<> \"\",(P23/Balling!$E$17)*1000,\"\")","v":""}]
[null,null,{"$f":"IF(Tabelle3[[#This Row],[Ca]]>0,Tabelle3[[#This Row],[Ca]],#N/A)","v":{"$error":"#N/A"}},null,{"$f":"IF(Tabelle3[[#This Row],[kH]]>0,Tabelle3[[#This Row],[kH]],#N/A)","v":{"$error":"#N/A"}},null,{"$f":"IF(Tabelle3[[#This Row],[Mg]]>0,Tabelle3[[#This Row],[Mg]],#N/A)","v":{"$error":"#N/A"}},null,{"$f":"IF(Tabelle3[[#This Row],[K]]>0,Tabelle3[[#This Row],[K]],#N/A)","v":{"$error":"#N/A"}},null,{"$f":"IF(Tabelle3[[#This Row],[PO4]]>0,Tabelle3[[#This Row],[PO4]],#N/A)","v":{"$error":"#N/A"}},null,{"$f":"IF(Tabelle3[[#This Row],[NO3]]>0,Tabelle3[[#This Row],[NO3]],#N/A)","v":{"$error":"#N/A"}},"",{"$f":"IF(N24<> \"\",(N24/Balling!$E$15)*1000,\"\")","v":""},"",{"$f":"IF(P24<> \"\",(P24/Balling!$E$17)*1000,\"\")","v":""}]
[null,null,{"$f":"IF(Tabelle3[[#This Row],[Ca]]>0,Tabelle3[[#This Row],[Ca]],#N/A)","v":{"$error":"#N/A"}},null,{"$f":"IF(Tabelle3[[#This Row],[kH]]>0,Tabelle3[[#This Row],[kH]],#N/A)","v":{"$error":"#N/A"}},null,{"$f":"IF(Tabelle3[[#This Row],[Mg]]>0,Tabelle3[[#This Row],[Mg]],#N/A)","v":{"$error":"#N/A"}},null,{"$f":"IF(Tabelle3[[#This Row],[K]]>0,Tabelle3[[#This Row],[K]],#N/A)","v":{"$error":"#N/A"}},null,{"$f":"IF(Tabelle3[[#This Row],[PO4]]>0,Tabelle3[[#This Row],[PO4]],#N/A)","v":{"$error":"#N/A"}},null,{"$f":"IF(Tabelle3[[#This Row],[NO3]]>0,Tabelle3[[#This Row],[NO3]],#N/A)","v":{"$error":"#N/A"}},"",{"$f":"IF(N25<> \"\",(N25/Balling!$E$15)*1000,\"\")","v":""},"",{"$f":"IF(P25<> \"\",(P25/Balling!$E$17)*1000,\"\")","v":""}]
[null,null,{"$f":"IF(Tabelle3[[#This Row],[Ca]]>0,Tabelle3[[#This Row],[Ca]],#N/A)","v":{"$error":"#N/A"}},null,{"$f":"IF(Tabelle3[[#This Row],[kH]]>0,Tabelle3[[#This Row],[kH]],#N/A)","v":{"$error":"#N/A"}},null,{"$f":"IF(Tabelle3[[#This Row],[Mg]]>0,Tabelle3[[#This Row],[Mg]],#N/A)","v":{"$error":"#N/A"}},null,{"$f":"IF(Tabelle3[[#This Row],[K]]>0,Tabelle3[[#This Row],[K]],#N/A)","v":{"$error":"#N/A"}},null,{"$f":"IF(Tabelle3[[#This Row],[PO4]]>0,Tabelle3[[#This Row],[PO4]],#N/A)","v":{"$error":"#N/A"}},null,{"$f":"IF(Tabelle3[[#This Row],[NO3]]>0,Tabelle3[[#This Row],[NO3]],#N/A)","v":{"$error":"#N/A"}},"",{"$f":"IF(N26<> \"\",(N26/Balling!$E$15)*1000,\"\")","v":""},"",{"$f":"IF(P26<> \"\",(P26/Balling!$E$17)*1000,\"\")","v":""}]
[null,null,{"$f":"IF(Tabelle3[[#This Row],[Ca]]>0,Tabelle3[[#This Row],[Ca]],#N/A)","v":{"$error":"#N/A"}},null,{"$f":"IF(Tabelle3[[#This Row],[kH]]>0,Tabelle3[[#This Row],[kH]],#N/A)","v":{"$error":"#N/A"}},null,{"$f":"IF(Tabelle3[[#This Row],[Mg]]>0,Tabelle3[[#This Row],[Mg]],#N/A)","v":{"$error":"#N/A"}},null,{"$f":"IF(Tabelle3[[#This Row],[K]]>0,Tabelle3[[#This Row],[K]],#N/A)","v":{"$error":"#N/A"}},null,{"$f":"IF(Tabelle3[[#This Row],[PO4]]>0,Tabelle3[[#This Row],[PO4]],#N/A)","v":{"$error":"#N/A"}},null,{"$f":"IF(Tabelle3[[#This Row],[NO3]]>0,Tabelle3[[#This Row],[NO3]],#N/A)","v":{"$error":"#N/A"}},"",{"$f":"IF(N27<> \"\",(N27/Balling!$E$15)*1000,\"\")","v":""},"",{"$f":"IF(P27<> \"\",(P27/Balling!$E$17)*1000,\"\")","v":""}]
[null,null,{"$f":"IF(Tabelle3[[#This Row],[Ca]]>0,Tabelle3[[#This Row],[Ca]],#N/A)","v":{"$error":"#N/A"}},null,{"$f":"IF(Tabelle3[[#This Row],[kH]]>0,Tabelle3[[#This Row],[kH]],#N/A)","v":{"$error":"#N/A"}},null,{"$f":"IF(Tabelle3[[#This Row],[Mg]]>0,Tabelle3[[#This Row],[Mg]],#N/A)","v":{"$error":"#N/A"}},null,{"$f":"IF(Tabelle3[[#This Row],[K]]>0,Tabelle3[[#This Row],[K]],#N/A)","v":{"$error":"#N/A"}},null,{"$f":"IF(Tabelle3[[#This Row],[PO4]]>0,Tabelle3[[#This Row],[PO4]],#N/A)","v":{"$error":"#N/A"}},null,{"$f":"IF(Tabelle3[[#This Row],[NO3]]>0,Tabelle3[[#This Row],[NO3]],#N/A)","v":{"$error":"#N/A"}},"",{"$f":"IF(N28<> \"\",(N28/Balling!$E$15)*1000,\"\")","v":""},"",{"$f":"IF(P28<> \"\",(P28/Balling!$E$17)*1000,\"\")","v":""}]
[null,null,{"$f":"IF(Tabelle3[[#This Row],[Ca]]>0,Tabelle3[[#This Row],[Ca]],#N/A)","v":{"$error":"#N/A"}},null,{"$f":"IF(Tabelle3[[#This Row],[kH]]>0,Tabelle3[[#This Row],[kH]],#N/A)","v":{"$error":"#N/A"}},null,{"$f":"IF(Tabelle3[[#This Row],[Mg]]>0,Tabelle3[[#This Row],[Mg]],#N/A)","v":{"$error":"#N/A"}},null,{"$f":"IF(Tabelle3[[#This Row],[K]]>0,Tabelle3[[#This Row],[K]],#N/A)","v":{"$error":"#N/A"}},null,{"$f":"IF(Tabelle3[[#This Row],[PO4]]>0,Tabelle3[[#This Row],[PO4]],#N/A)","v":{"$error":"#N/A"}},null,{"$f":"IF(Tabelle3[[#This Row],[NO3]]>0,Tabelle3[[#This Row],[NO3]],#N/A)","v":{"$error":"#N/A"}},"",{"$f":"IF(N29<> \"\",(N29/Balling!$E$15)*1000,\"\")","v":""},"",{"$f":"IF(P29<> \"\",(P29/Balling!$E$17)*1000,\"\")","v":""}]
[null,null,{"$f":"IF(Tabelle3[[#This Row],[Ca]]>0,Tabelle3[[#This Row],[Ca]],#N/A)","v":{"$error":"#N/A"}},null,{"$f":"IF(Tabelle3[[#This Row],[kH]]>0,Tabelle3[[#This Row],[kH]],#N/A)","v":{"$error":"#N/A"}},null,{"$f":"IF(Tabelle3[[#This Row],[Mg]]>0,Tabelle3[[#This Row],[Mg]],#N/A)","v":{"$error":"#N/A"}},null,{"$f":"IF(Tabelle3[[#This Row],[K]]>0,Tabelle3[[#This Row],[K]],#N/A)","v":{"$error":"#N/A"}},null,{"$f":"IF(Tabelle3[[#This Row],[PO4]]>0,Tabelle3[[#This Row],[PO4]],#N/A)","v":{"$error":"#N/A"}},null,{"$f":"IF(Tabelle3[[#This Row],[NO3]]>0,Tabelle3[[#This Row],[NO3]],#N/A)","v":{"$error":"#N/A"}},"",{"$f":"IF(N30<> \"\",(N30/Balling!$E$15)*1000,\"\")","v":""},"",{"$f":"IF(P30<> \"\",(P30/Balling!$E$17)*1000,\"\")","v":""}]
[null,null,{"$f":"IF(Tabelle3[[#This Row],[Ca]]>0,Tabelle3[[#This Row],[Ca]],#N/A)","v":{"$error":"#N/A"}},null,{"$f":"IF(Tabelle3[[#This Row],[kH]]>0,Tabelle3[[#This Row],[kH]],#N/A)","v":{"$error":"#N/A"}},null,{"$f":"IF(Tabelle3[[#This Row],[Mg]]>0,Tabelle3[[#This Row],[Mg]],#N/A)","v":{"$error":"#N/A"}},null,{"$f":"IF(Tabelle3[[#This Row],[K]]>0,Tabelle3[[#This Row],[K]],#N/A)","v":{"$error":"#N/A"}},null,{"$f":"IF(Tabelle3[[#This Row],[PO4]]>0,Tabelle3[[#This Row],[PO4]],#N/A)","v":{"$error":"#N/A"}},null,{"$f":"IF(Tabelle3[[#This Row],[NO3]]>0,Tabelle3[[#This Row],[NO3]],#N/A)","v":{"$error":"#N/A"}},"",{"$f":"IF(N31<> \"\",(N31/Balling!$E$15)*1000,\"\")","v":""},"",{"$f":"IF(P31<> \"\",(P31/Balling!$E$17)*1000,\"\")","v":""}]
[null,null,{"$f":"IF(Tabelle3[[#This Row],[Ca]]>0,Tabelle3[[#This Row],[Ca]],#N/A)","v":{"$error":"#N/A"}},null,{"$f":"IF(Tabelle3[[#This Row],[kH]]>0,Tabelle3[[#This Row],[kH]],#N/A)","v":{"$error":"#N/A"}},null,{"$f":"IF(Tabelle3[[#This Row],[Mg]]>0,Tabelle3[[#This Row],[Mg]],#N/A)","v":{"$error":"#N/A"}},null,{"$f":"IF(Tabelle3[[#This Row],[K]]>0,Tabelle3[[#This Row],[K]],#N/A)","v":{"$error":"#N/A"}},null,{"$f":"IF(Tabelle3[[#This Row],[PO4]]>0,Tabelle3[[#This Row],[PO4]],#N/A)","v":{"$error":"#N/A"}},null,{"$f":"IF(Tabelle3[[#This Row],[NO3]]>0,Tabelle3[[#This Row],[NO3]],#N/A)","v":{"$error":"#N/A"}},"",{"$f":"IF(N32<> \"\",(N32/Balling!$E$15)*1000,\"\")","v":""},"",{"$f":"IF(P32<> \"\",(P32/Balling!$E$17)*1000,\"\")","v":""}]
[null,null,{"$f":"IF(Tabelle3[[#This Row],[Ca]]>0,Tabelle3[[#This Row],[Ca]],#N/A)","v":{"$error":"#N/A"}},null,{"$f":"IF(Tabelle3[[#This Row],[kH]]>0,Tabelle3[[#This Row],[kH]],#N/A)","v":{"$error":"#N/A"}},null,{"$f":"IF(Tabelle3[[#This Row],[Mg]]>0,Tabelle3[[#This Row],[Mg]],#N/A)","v":{"$error":"#N/A"}},null,{"$f":"IF(Tabelle3[[#This Row],[K]]>0,Tabelle3[[#This Row],[K]],#N/A)","v":{"$error":"#N/A"}},null,{"$f":"IF(Tabelle3[[#This Row],[PO4]]>0,Tabelle3[[#This Row],[PO4]],#N/A)","v":{"$error":"#N/A"}},null,{"$f":"IF(Tabelle3[[#This Row],[NO3]]>0,Tabelle3[[#This Row],[NO3]],#N/A)","v":{"$error":"#N/A"}},"",{"$f":"IF(N33<> \"\",(N33/Balling!$E$15)*1000,\"\")","v":""},"",{"$f":"IF(P33<> \"\",(P33/Balling!$E$17)*1000,\"\")","v":""}]
[null,null,{"$f":"IF(Tabelle3[[#This Row],[Ca]]>0,Tabelle3[[#This Row],[Ca]],#N/A)","v":{"$error":"#N/A"}},null,{"$f":"IF(Tabelle3[[#This Row],[kH]]>0,Tabelle3[[#This Row],[kH]],#N/A)","v":{"$error":"#N/A"}},null,{"$f":"IF(Tabelle3[[#This Row],[Mg]]>0,Tabelle3[[#This Row],[Mg]],#N/A)","v":{"$error":"#N/A"}},null,{"$f":"IF(Tabelle3[[#This Row],[K]]>0,Tabelle3[[#This Row],[K]],#N/A)","v":{"$error":"#N/A"}},null,{"$f":"IF(Tabelle3[[#This Row],[PO4]]>0,Tabelle3[[#This Row],[PO4]],#N/A)","v":{"$error":"#N/A"}},null,{"$f":"IF(Tabelle3[[#This Row],[NO3]]>0,Tabelle3[[#This Row],[NO3]],#N/A)","v":{"$error":"#N/A"}},"",{"$f":"IF(N34<> \"\",(N34/Balling!$E$15)*1000,\"\")","v":""},"",{"$f":"IF(P34<> \"\",(P34/Balling!$E$17)*1000,\"\")","v":""}]
[null,null,{"$f":"IF(Tabelle3[[#This Row],[Ca]]>0,Tabelle3[[#This Row],[Ca]],#N/A)","v":{"$error":"#N/A"}},null,{"$f":"IF(Tabelle3[[#This Row],[kH]]>0,Tabelle3[[#This Row],[kH]],#N/A)","v":{"$error":"#N/A"}},null,{"$f":"IF(Tabelle3[[#This Row],[Mg]]>0,Tabelle3[[#This Row],[Mg]],#N/A)","v":{"$error":"#N/A"}},null,{"$f":"IF(Tabelle3[[#This Row],[K]]>0,Tabelle3[[#This Row],[K]],#N/A)","v":{"$error":"#N/A"}},null,{"$f":"IF(Tabelle3[[#This Row],[PO4]]>0,Tabelle3[[#This Row],[PO4]],#N/A)","v":{"$error":"#N/A"}},null,{"$f":"IF(Tabelle3[[#This Row],[NO3]]>0,Tabelle3[[#This Row],[NO3]],#N/A)","v":{"$error":"#N/A"}},"",{"$f":"IF(N35<> \"\",(N35/Balling!$E$15)*1000,\"\")","v":""},"",{"$f":"IF(P35<> \"\",(P35/Balling!$E$17)*1000,\"\")","v":""}]
[null,null,{"$f":"IF(Tabelle3[[#This Row],[Ca]]>0,Tabelle3[[#This Row],[Ca]],#N/A)","v":{"$error":"#N/A"}},null,{"$f":"IF(Tabelle3[[#This Row],[kH]]>0,Tabelle3[[#This Row],[kH]],#N/A)","v":{"$error":"#N/A"}},null,{"$f":"IF(Tabelle3[[#This Row],[Mg]]>0,Tabelle3[[#This Row],[Mg]],#N/A)","v":{"$error":"#N/A"}},null,{"$f":"IF(Tabelle3[[#This Row],[K]]>0,Tabelle3[[#This Row],[K]],#N/A)","v":{"$error":"#N/A"}},null,{"$f":"IF(Tabelle3[[#This Row],[PO4]]>0,Tabelle3[[#This Row],[PO4]],#N/A)","v":{"$error":"#N/A"}},null,{"$f":"IF(Tabelle3[[#This Row],[NO3]]>0,Tabelle3[[#This Row],[NO3]],#N/A)","v":{"$error":"#N/A"}},"",{"$f":"IF(N36<> \"\",(N36/Balling!$E$15)*1000,\"\")","v":""},"",{"$f":"IF(P36<> \"\",(P36/Balling!$E$17)*1000,\"\")","v":""}]
[null,null,{"$f":"IF(Tabelle3[[#This Row],[Ca]]>0,Tabelle3[[#This Row],[Ca]],#N/A)","v":{"$error":"#N/A"}},null,{"$f":"IF(Tabelle3[[#This Row],[kH]]>0,Tabelle3[[#This Row],[kH]],#N/A)","v":{"$error":"#N/A"}},null,{"$f":"IF(Tabelle3[[#This Row],[Mg]]>0,Tabelle3[[#This Row],[Mg]],#N/A)","v":{"$error":"#N/A"}},null,{"$f":"IF(Tabelle3[[#This Row],[K]]>0,Tabelle3[[#This Row],[K]],#N/A)","v":{"$error":"#N/A"}},null,{"$f":"IF(Tabelle3[[#This Row],[PO4]]>0,Tabelle3[[#This Row],[PO4]],#N/A)","v":{"$error":"#N/A"}},null,{"$f":"IF(Tabelle3[[#This Row],[NO3]]>0,Tabelle3[[#This Row],[NO3]],#N/A)","v":{"$error":"#N/A"}},"",{"$f":"IF(N37<> \"\",(N37/Balling!$E$15)*1000,\"\")","v":""},"",{"$f":"IF(P37<> \"\",(P37/Balling!$E$17)*1000,\"\")","v":""}]
[null,null,{"$f":"IF(Tabelle3[[#This Row],[Ca]]>0,Tabelle3[[#This Row],[Ca]],#N/A)","v":{"$error":"#N/A"}},null,{"$f":"IF(Tabelle3[[#This Row],[kH]]>0,Tabelle3[[#This Row],[kH]],#N/A)","v":{"$error":"#N/A"}},null,{"$f":"IF(Tabelle3[[#This Row],[Mg]]>0,Tabelle3[[#This Row],[Mg]],#N/A)","v":{"$error":"#N/A"}},null,{"$f":"IF(Tabelle3[[#This Row],[K]]>0,Tabelle3[[#This Row],[K]],#N/A)","v":{"$error":"#N/A"}},null,{"$f":"IF(Tabelle3[[#This Row],[PO4]]>0,Tabelle3[[#This Row],[PO4]],#N/A)","v":{"$error":"#N/A"}},null,{"$f":"IF(Tabelle3[[#This Row],[NO3]]>0,Tabelle3[[#This Row],[NO3]],#N/A)","v":{"$error":"#N/A"}},"",{"$f":"IF(N38<> \"\",(N38/Balling!$E$15)*1000,\"\")","v":""},"",{"$f":"IF(P38<> \"\",(P38/Balling!$E$17)*1000,\"\")","v":""}]
[null,null,{"$f":"IF(Tabelle3[[#This Row],[Ca]]>0,Tabelle3[[#This Row],[Ca]],#N/A)","v":{"$error":"#N/A"}},null,{"$f":"IF(Tabelle3[[#This Row],[kH]]>0,Tabelle3[[#This Row],[kH]],#N/A)","v":{"$error":"#N/A"}},null,{"$f":"IF(Tabelle3[[#This Row],[Mg]]>0,Tabelle3[[#This Row],[Mg]],#N/A)","v":{"$error":"#N/A"}},null,{"$f":"IF(Tabelle3[[#This Row],[K]]>0,Tabelle3[[#This Row],[K]],#N/A)","v":{"$error":"#N/A"}},null,{"$f":"IF(Tabelle3[[#This Row],[PO4]]>0,Tabelle3[[#This Row],[PO4]],#N/A)","v":{"$error":"#N/A"}},null,{"$f":"IF(Tabelle3[[#This Row],[NO3]]>0,Tabelle3[[#This Row],[NO3]],#N/A)","v":{"$error":"#N/A"}},"",{"$f":"IF(N39<> \"\",(N39/Balling!$E$15)*1000,\"\")","v":""},"",{"$f":"IF(P39<> \"\",(P39/Balling!$E$17)*1000,\"\")","v":""}]
[null,null,{"$f":"IF(Tabelle3[[#This Row],[Ca]]>0,Tabelle3[[#This Row],[Ca]],#N/A)","v":{"$error":"#N/A"}},null,{"$f":"IF(Tabelle3[[#This Row],[kH]]>0,Tabelle3[[#This Row],[kH]],#N/A)","v":{"$error":"#N/A"}},null,{"$f":"IF(Tabelle3[[#This Row],[Mg]]>0,Tabelle3[[#This Row],[Mg]],#N/A)","v":{"$error":"#N/A"}},null,{"$f":"IF(Tabelle3[[#This Row],[K]]>0,Tabelle3[[#This Row],[K]],#N/A)","v":{"$error":"#N/A"}},null,{"$f":"IF(Tabelle3[[#This Row],[PO4]]>0,Tabelle3[[#This Row],[PO4]],#N/A)","v":{"$error":"#N/A"}},null,{"$f":"IF(Tabelle3[[#This Row],[NO3]]>0,Tabelle3[[#This Row],[NO3]],#N/A)","v":{"$error":"#N/A"}},"",{"$f":"IF(N40<> \"\",(N40/Balling!$E$15)*1000,\"\")","v":""},"",{"$f":"IF(P40<> \"\",(P40/Balling!$E$17)*1000,\"\")","v":""}]
[null,null,{"$f":"IF(Tabelle3[[#This Row],[Ca]]>0,Tabelle3[[#This Row],[Ca]],#N/A)","v":{"$error":"#N/A"}},null,{"$f":"IF(Tabelle3[[#This Row],[kH]]>0,Tabelle3[[#This Row],[kH]],#N/A)","v":{"$error":"#N/A"}},null,{"$f":"IF(Tabelle3[[#This Row],[Mg]]>0,Tabelle3[[#This Row],[Mg]],#N/A)","v":{"$error":"#N/A"}},null,{"$f":"IF(Tabelle3[[#This Row],[K]]>0,Tabelle3[[#This Row],[K]],#N/A)","v":{"$error":"#N/A"}},null,{"$f":"IF(Tabelle3[[#This Row],[PO4]]>0,Tabelle3[[#This Row],[PO4]],#N/A)","v":{"$error":"#N/A"}},null,{"$f":"IF(Tabelle3[[#This Row],[NO3]]>0,Tabelle3[[#This Row],[NO3]],#N/A)","v":{"$error":"#N/A"}},"",{"$f":"IF(N41<> \"\",(N41/Balling!$E$15)*1000,\"\")","v":""},"",{"$f":"IF(P41<> \"\",(P41/Balling!$E$17)*1000,\"\")","v":""}]
[null,null,{"$f":"IF(Tabelle3[[#This Row],[Ca]]>0,Tabelle3[[#This Row],[Ca]],#N/A)","v":{"$error":"#N/A"}},null,{"$f":"IF(Tabelle3[[#This Row],[kH]]>0,Tabelle3[[#This Row],[kH]],#N/A)","v":{"$error":"#N/A"}},null,{"$f":"IF(Tabelle3[[#This Row],[Mg]]>0,Tabelle3[[#This Row],[Mg]],#N/A)","v":{"$error":"#N/A"}},null,{"$f":"IF(Tabelle3[[#This Row],[K]]>0,Tabelle3[[#This Row],[K]],#N/A)","v":{"$error":"#N/A"}},null,{"$f":"IF(Tabelle3[[#This Row],[PO4]]>0,Tabelle3[[#This Row],[PO4]],#N/A)","v":{"$error":"#N/A"}},null,{"$f":"IF(Tabelle3[[#This Row],[NO3]]>0,Tabelle3[[#This Row],[NO3]],#N/A)","v":{"$error":"#N/A"}},"",{"$f":"IF(N42<> \"\",(N42/Balling!$E$15)*1000,\"\")","v":""},"",{"$f":"IF(P42<> \"\",(P42/Balling!$E$17)*1000,\"\")","v":""}]
[null,null,{"$f":"IF(Tabelle3[[#This Row],[Ca]]>0,Tabelle3[[#This Row],[Ca]],#N/A)","v":{"$error":"#N/A"}},null,{"$f":"IF(Tabelle3[[#This Row],[kH]]>0,Tabelle3[[#This Row],[kH]],#N/A)","v":{"$error":"#N/A"}},null,{"$f":"IF(Tabelle3[[#This Row],[Mg]]>0,Tabelle3[[#This Row],[Mg]],#N/A)","v":{"$error":"#N/A"}},null,{"$f":"IF(Tabelle3[[#This Row],[K]]>0,Tabelle3[[#This Row],[K]],#N/A)","v":{"$error":"#N/A"}},null,{"$f":"IF(Tabelle3[[#This Row],[PO4]]>0,Tabelle3[[#This Row],[PO4]],#N/A)","v":{"$error":"#N/A"}},null,{"$f":"IF(Tabelle3[[#This Row],[NO3]]>0,Tabelle3[[#This Row],[NO3]],#N/A)","v":{"$error":"#N/A"}},"",{"$f":"IF(N43<> \"\",(N43/Balling!$E$15)*1000,\"\")","v":""},"",{"$f":"IF(P43<> \"\",(P43/Balling!$E$17)*1000,\"\")","v":""}]
[null,null,{"$f":"IF(Tabelle3[[#This Row],[Ca]]>0,Tabelle3[[#This Row],[Ca]],#N/A)","v":{"$error":"#N/A"}},null,{"$f":"IF(Tabelle3[[#This Row],[kH]]>0,Tabelle3[[#This Row],[kH]],#N/A)","v":{"$error":"#N/A"}},null,{"$f":"IF(Tabelle3[[#This Row],[Mg]]>0,Tabelle3[[#This Row],[Mg]],#N/A)","v":{"$error":"#N/A"}},null,{"$f":"IF(Tabelle3[[#This Row],[K]]>0,Tabelle3[[#This Row],[K]],#N/A)","v":{"$error":"#N/A"}},null,{"$f":"IF(Tabelle3[[#This Row],[PO4]]>0,Tabelle3[[#This Row],[PO4]],#N/A)","v":{"$error":"#N/A"}},null,{"$f":"IF(Tabelle3[[#This Row],[NO3]]>0,Tabelle3[[#This Row],[NO3]],#N/A)","v":{"$error":"#N/A"}},"",{"$f":"IF(N44<> \"\",(N44/Balling!$E$15)*1000,\"\")","v":""},"",{"$f":"IF(P44<> \"\",(P44/Balling!$E$17)*1000,\"\")","v":""}]
[null,null,{"$f":"IF(Tabelle3[[#This Row],[Ca]]>0,Tabelle3[[#This Row],[Ca]],#N/A)","v":{"$error":"#N/A"}},null,{"$f":"IF(Tabelle3[[#This Row],[kH]]>0,Tabelle3[[#This Row],[kH]],#N/A)","v":{"$error":"#N/A"}},null,{"$f":"IF(Tabelle3[[#This Row],[Mg]]>0,Tabelle3[[#This Row],[Mg]],#N/A)","v":{"$error":"#N/A"}},null,{"$f":"IF(Tabelle3[[#This Row],[K]]>0,Tabelle3[[#This Row],[K]],#N/A)","v":{"$error":"#N/A"}},null,{"$f":"IF(Tabelle3[[#This Row],[PO4]]>0,Tabelle3[[#This Row],[PO4]],#N/A)","v":{"$error":"#N/A"}},null,{"$f":"IF(Tabelle3[[#This Row],[NO3]]>0,Tabelle3[[#This Row],[NO3]],#N/A)","v":{"$error":"#N/A"}},"",{"$f":"IF(N45<> \"\",(N45/Balling!$E$15)*1000,\"\")","v":""},"",{"$f":"IF(P45<> \"\",(P45/Balling!$E$17)*1000,\"\")","v":""}]
[null,null,{"$f":"IF(Tabelle3[[#This Row],[Ca]]>0,Tabelle3[[#This Row],[Ca]],#N/A)","v":{"$error":"#N/A"}},null,{"$f":"IF(Tabelle3[[#This Row],[kH]]>0,Tabelle3[[#This Row],[kH]],#N/A)","v":{"$error":"#N/A"}},null,{"$f":"IF(Tabelle3[[#This Row],[Mg]]>0,Tabelle3[[#This Row],[Mg]],#N/A)","v":{"$error":"#N/A"}},null,{"$f":"IF(Tabelle3[[#This Row],[K]]>0,Tabelle3[[#This Row],[K]],#N/A)","v":{"$error":"#N/A"}},null,{"$f":"IF(Tabelle3[[#This Row],[PO4]]>0,Tabelle3[[#This Row],[PO4]],#N/A)","v":{"$error":"#N/A"}},null,{"$f":"IF(Tabelle3[[#This Row],[NO3]]>0,Tabelle3[[#This Row],[NO3]],#N/A)","v":{"$error":"#N/A"}},"",{"$f":"IF(N46<> \"\",(N46/Balling!$E$15)*1000,\"\")","v":""},"",{"$f":"IF(P46<> \"\",(P46/Balling!$E$17)*1000,\"\")","v":""}]
[null,null,{"$f":"IF(Tabelle3[[#This Row],[Ca]]>0,Tabelle3[[#This Row],[Ca]],#N/A)","v":{"$error":"#N/A"}},null,{"$f":"IF(Tabelle3[[#This Row],[kH]]>0,Tabelle3[[#This Row],[kH]],#N/A)","v":{"$error":"#N/A"}},null,{"$f":"IF(Tabelle3[[#This Row],[Mg]]>0,Tabelle3[[#This Row],[Mg]],#N/A)","v":{"$error":"#N/A"}},null,{"$f":"IF(Tabelle3[[#This Row],[K]]>0,Tabelle3[[#This Row],[K]],#N/A)","v":{"$error":"#N/A"}},null,{"$f":"IF(Tabelle3[[#This Row],[PO4]]>0,Tabelle3[[#This Row],[PO4]],#N/A)","v":{"$error":"#N/A"}},null,{"$f":"IF(Tabelle3[[#This Row],[NO3]]>0,Tabelle3[[#This Row],[NO3]],#N/A)","v":{"$error":"#N/A"}},"",{"$f":"IF(N47<> \"\",(N47/Balling!$E$15)*1000,\"\")","v":""},"",{"$f":"IF(P47<> \"\",(P47/Balling!$E$17)*1000,\"\")","v":""}]
[null,null,{"$f":"IF(Tabelle3[[#This Row],[Ca]]>0,Tabelle3[[#This Row],[Ca]],#N/A)","v":{"$error":"#N/A"}},null,{"$f":"IF(Tabelle3[[#This Row],[kH]]>0,Tabelle3[[#This Row],[kH]],#N/A)","v":{"$error":"#N/A"}},null,{"$f":"IF(Tabelle3[[#This Row],[Mg]]>0,Tabelle3[[#This Row],[Mg]],#N/A)","v":{"$error":"#N/A"}},null,{"$f":"IF(Tabelle3[[#This Row],[K]]>0,Tabelle3[[#This Row],[K]],#N/A)","v":{"$error":"#N/A"}},null,{"$f":"IF(Tabelle3[[#This Row],[PO4]]>0,Tabelle3[[#This Row],[PO4]],#N/A)","v":{"$error":"#N/A"}},null,{"$f":"IF(Tabelle3[[#This Row],[NO3]]>0,Tabelle3[[#This Row],[NO3]],#N/A)","v":{"$error":"#N/A"}},"",{"$f":"IF(N48<> \"\",(N48/Balling!$E$15)*1000,\"\")","v":""},"",{"$f":"IF(P48<> \"\",(P48/Balling!$E$17)*1000,\"\")","v":""}]
[null,null,{"$f":"IF(Tabelle3[[#This Row],[Ca]]>0,Tabelle3[[#This Row],[Ca]],#N/A)","v":{"$error":"#N/A"}},null,{"$f":"IF(Tabelle3[[#This Row],[kH]]>0,Tabelle3[[#This Row],[kH]],#N/A)","v":{"$error":"#N/A"}},null,{"$f":"IF(Tabelle3[[#This Row],[Mg]]>0,Tabelle3[[#This Row],[Mg]],#N/A)","v":{"$error":"#N/A"}},null,{"$f":"IF(Tabelle3[[#This Row],[K]]>0,Tabelle3[[#This Row],[K]],#N/A)","v":{"$error":"#N/A"}},null,{"$f":"IF(Tabelle3[[#This Row],[PO4]]>0,Tabelle3[[#This Row],[PO4]],#N/A)","v":{"$error":"#N/A"}},null,{"$f":"IF(Tabelle3[[#This Row],[NO3]]>0,Tabelle3[[#This Row],[NO3]],#N/A)","v":{"$error":"#N/A"}},"",{"$f":"IF(N49<> \"\",(N49/Balling!$E$15)*1000,\"\")","v":""},"",{"$f":"IF(P49<> \"\",(P49/Balling!$E$17)*1000,\"\")","v":""}]
[null,null,{"$f":"IF(Tabelle3[[#This Row],[Ca]]>0,Tabelle3[[#This Row],[Ca]],#N/A)","v":{"$error":"#N/A"}},null,{"$f":"IF(Tabelle3[[#This Row],[kH]]>0,Tabelle3[[#This Row],[kH]],#N/A)","v":{"$error":"#N/A"}},null,{"$f":"IF(Tabelle3[[#This Row],[Mg]]>0,Tabelle3[[#This Row],[Mg]],#N/A)","v":{"$error":"#N/A"}},null,{"$f":"IF(Tabelle3[[#This Row],[K]]>0,Tabelle3[[#This Row],[K]],#N/A)","v":{"$error":"#N/A"}},null,{"$f":"IF(Tabelle3[[#This Row],[PO4]]>0,Tabelle3[[#This Row],[PO4]],#N/A)","v":{"$error":"#N/A"}},null,{"$f":"IF(Tabelle3[[#This Row],[NO3]]>0,Tabelle3[[#This Row],[NO3]],#N/A)","v":{"$error":"#N/A"}},"",{"$f":"IF(N50<> \"\",(N50/Balling!$E$15)*1000,\"\")","v":""},"",{"$f":"IF(P50<> \"\",(P50/Balling!$E$17)*1000,\"\")","v":""}]
[null,null,{"$f":"IF(Tabelle3[[#This Row],[Ca]]>0,Tabelle3[[#This Row],[Ca]],#N/A)","v":{"$error":"#N/A"}},null,{"$f":"IF(Tabelle3[[#This Row],[kH]]>0,Tabelle3[[#This Row],[kH]],#N/A)","v":{"$error":"#N/A"}},null,{"$f":"IF(Tabelle3[[#This Row],[Mg]]>0,Tabelle3[[#This Row],[Mg]],#N/A)","v":{"$error":"#N/A"}},null,{"$f":"IF(Tabelle3[[#This Row],[K]]>0,Tabelle3[[#This Row],[K]],#N/A)","v":{"$error":"#N/A"}},null,{"$f":"IF(Tabelle3[[#This Row],[PO4]]>0,Tabelle3[[#This Row],[PO4]],#N/A)","v":{"$error":"#N/A"}},null,{"$f":"IF(Tabelle3[[#This Row],[NO3]]>0,Tabelle3[[#This Row],[NO3]],#N/A)","v":{"$error":"#N/A"}},"",{"$f":"IF(N51<> \"\",(N51/Balling!$E$15)*1000,\"\")","v":""},"",{"$f":"IF(P51<> \"\",(P51/Balling!$E$17)*1000,\"\")","v":""}]
[null,null,{"$f":"IF(Tabelle3[[#This Row],[Ca]]>0,Tabelle3[[#This Row],[Ca]],#N/A)","v":{"$error":"#N/A"}},null,{"$f":"IF(Tabelle3[[#This Row],[kH]]>0,Tabelle3[[#This Row],[kH]],#N/A)","v":{"$error":"#N/A"}},null,{"$f":"IF(Tabelle3[[#This Row],[Mg]]>0,Tabelle3[[#This Row],[Mg]],#N/A)","v":{"$error":"#N/A"}},null,{"$f":"IF(Tabelle3[[#This Row],[K]]>0,Tabelle3[[#This Row],[K]],#N/A)","v":{"$error":"#N/A"}},null,{"$f":"IF(Tabelle3[[#This Row],[PO4]]>0,Tabelle3[[#This Row],[PO4]],#N/A)","v":{"$error":"#N/A"}},null,{"$f":"IF(Tabelle3[[#This Row],[NO3]]>0,Tabelle3[[#This Row],[NO3]],#N/A)","v":{"$error":"#N/A"}},"",{"$f":"IF(N52<> \"\",(N52/Balling!$E$15)*1000,\"\")","v":""},"",{"$f":"IF(P52<> \"\",(P52/Balling!$E$17)*1000,\"\")","v":""}]
[null,null,{"$f":"IF(Tabelle3[[#This Row],[Ca]]>0,Tabelle3[[#This Row],[Ca]],#N/A)","v":{"$error":"#N/A"}},null,{"$f":"IF(Tabelle3[[#This Row],[kH]]>0,Tabelle3[[#This Row],[kH]],#N/A)","v":{"$error":"#N/A"}},null,{"$f":"IF(Tabelle3[[#This Row],[Mg]]>0,Tabelle3[[#This Row],[Mg]],#N/A)","v":{"$error":"#N/A"}},null,{"$f":"IF(Tabelle3[[#This Row],[K]]>0,Tabelle3[[#This Row],[K]],#N/A)","v":{"$error":"#N/A"}},null,{"$f":"IF(Tabelle3[[#This Row],[PO4]]>0,Tabelle3[[#This Row],[PO4]],#N/A)","v":{"$error":"#N/A"}},null,{"$f":"IF(Tabelle3[[#This Row],[NO3]]>0,Tabelle3[[#This Row],[NO3]],#N/A)","v":{"$error":"#N/A"}},"",{"$f":"IF(N53<> \"\",(N53/Balling!$E$15)*1000,\"\")","v":""},"",{"$f":"IF(P53<> \"\",(P53/Balling!$E$17)*1000,\"\")","v":""}]
[null,null,{"$f":"IF(Tabelle3[[#This Row],[Ca]]>0,Tabelle3[[#This Row],[Ca]],#N/A)","v":{"$error":"#N/A"}},null,{"$f":"IF(Tabelle3[[#This Row],[kH]]>0,Tabelle3[[#This Row],[kH]],#N/A)","v":{"$error":"#N/A"}},null,{"$f":"IF(Tabelle3[[#This Row],[Mg]]>0,Tabelle3[[#This Row],[Mg]],#N/A)","v":{"$error":"#N/A"}},null,{"$f":"IF(Tabelle3[[#This Row],[K]]>0,Tabelle3[[#This Row],[K]],#N/A)","v":{"$error":"#N/A"}},null,{"$f":"IF(Tabelle3[[#This Row],[PO4]]>0,Tabelle3[[#This Row],[PO4]],#N/A)","v":{"$error":"#N/A"}},null,{"$f":"IF(Tabelle3[[#This Row],[NO3]]>0,Tabelle3[[#This Row],[NO3]],#N/A)","v":{"$error":"#N/A"}},"",{"$f":"IF(N54<> \"\",(N54/Balling!$E$15)*1000,\"\")","v":""},"",{"$f":"IF(P54<> \"\",(P54/Balling!$E$17)*1000,\"\")","v":""}]
[null,null,{"$f":"IF(Tabelle3[[#This Row],[Ca]]>0,Tabelle3[[#This Row],[Ca]],#N/A)","v":{"$error":"#N/A"}},null,{"$f":"IF(Tabelle3[[#This Row],[kH]]>0,Tabelle3[[#This Row],[kH]],#N/A)","v":{"$error":"#N/A"}},null,{"$f":"IF(Tabelle3[[#This Row],[Mg]]>0,Tabelle3[[#This Row],[Mg]],#N/A)","v":{"$error":"#N/A"}},null,{"$f":"IF(Tabelle3[[#This Row],[K]]>0,Tabelle3[[#This Row],[K]],#N/A)","v":{"$error":"#N/A"}},null,{"$f":"IF(Tabelle3[[#This Row],[PO4]]>0,Tabelle3[[#This Row],[PO4]],#N/A)","v":{"$error":"#N/A"}},null,{"$f":"IF(Tabelle3[[#This Row],[NO3]]>0,Tabelle3[[#This Row],[NO3]],#N/A)","v":{"$error":"#N/A"}},"",{"$f":"IF(N55<> \"\",(N55/Balling!$E$15)*1000,\"\")","v":""},"",{"$f":"IF(P55<> \"\",(P55/Balling!$E$17)*1000,\"\")","v":""}]
[null,null,{"$f":"IF(Tabelle3[[#This Row],[Ca]]>0,Tabelle3[[#This Row],[Ca]],#N/A)","v":{"$error":"#N/A"}},null,{"$f":"IF(Tabelle3[[#This Row],[kH]]>0,Tabelle3[[#This Row],[kH]],#N/A)","v":{"$error":"#N/A"}},null,{"$f":"IF(Tabelle3[[#This Row],[Mg]]>0,Tabelle3[[#This Row],[Mg]],#N/A)","v":{"$error":"#N/A"}},null,{"$f":"IF(Tabelle3[[#This Row],[K]]>0,Tabelle3[[#This Row],[K]],#N/A)","v":{"$error":"#N/A"}},null,{"$f":"IF(Tabelle3[[#This Row],[PO4]]>0,Tabelle3[[#This Row],[PO4]],#N/A)","v":{"$error":"#N/A"}},null,{"$f":"IF(Tabelle3[[#This Row],[NO3]]>0,Tabelle3[[#This Row],[NO3]],#N/A)","v":{"$error":"#N/A"}},"",{"$f":"IF(N56<> \"\",(N56/Balling!$E$15)*1000,\"\")","v":""},"",{"$f":"IF(P56<> \"\",(P56/Balling!$E$17)*1000,\"\")","v":""}]
[null,null,{"$f":"IF(Tabelle3[[#This Row],[Ca]]>0,Tabelle3[[#This Row],[Ca]],#N/A)","v":{"$error":"#N/A"}},null,{"$f":"IF(Tabelle3[[#This Row],[kH]]>0,Tabelle3[[#This Row],[kH]],#N/A)","v":{"$error":"#N/A"}},null,{"$f":"IF(Tabelle3[[#This Row],[Mg]]>0,Tabelle3[[#This Row],[Mg]],#N/A)","v":{"$error":"#N/A"}},null,{"$f":"IF(Tabelle3[[#This Row],[K]]>0,Tabelle3[[#This Row],[K]],#N/A)","v":{"$error":"#N/A"}},null,{"$f":"IF(Tabelle3[[#This Row],[PO4]]>0,Tabelle3[[#This Row],[PO4]],#N/A)","v":{"$error":"#N/A"}},null,{"$f":"IF(Tabelle3[[#This Row],[NO3]]>0,Tabelle3[[#This Row],[NO3]],#N/A)","v":{"$error":"#N/A"}},"",{"$f":"IF(N57<> \"\",(N57/Balling!$E$15)*1000,\"\")","v":""},"",{"$f":"IF(P57<> \"\",(P57/Balling!$E$17)*1000,\"\")","v":""}]
[null,null,{"$f":"IF(Tabelle3[[#This Row],[Ca]]>0,Tabelle3[[#This Row],[Ca]],#N/A)","v":{"$error":"#N/A"}},null,{"$f":"IF(Tabelle3[[#This Row],[kH]]>0,Tabelle3[[#This Row],[kH]],#N/A)","v":{"$error":"#N/A"}},null,{"$f":"IF(Tabelle3[[#This Row],[Mg]]>0,Tabelle3[[#This Row],[Mg]],#N/A)","v":{"$error":"#N/A"}},null,{"$f":"IF(Tabelle3[[#This Row],[K]]>0,Tabelle3[[#This Row],[K]],#N/A)","v":{"$error":"#N/A"}},null,{"$f":"IF(Tabelle3[[#This Row],[PO4]]>0,Tabelle3[[#This Row],[PO4]],#N/A)","v":{"$error":"#N/A"}},null,{"$f":"IF(Tabelle3[[#This Row],[NO3]]>0,Tabelle3[[#This Row],[NO3]],#N/A)","v":{"$error":"#N/A"}},"",{"$f":"IF(N58<> \"\",(N58/Balling!$E$15)*1000,\"\")","v":""},"",{"$f":"IF(P58<> \"\",(P58/Balling!$E$17)*1000,\"\")","v":""}]

{"sheet":"Diagramm","index":1,"n_rows":0,"n_cols":0,"rows_kept":0,"cut":false,"hidden":false,"merged":[]}

{"sheet":"KF-Plus-Produkte","index":2,"n_rows":23,"n_cols":8,"rows_kept":23,"cut":false,"hidden":false,"merged":[[6,0,6,6]]}
[null,null,null,null,null,null,"Korallenfarm.at"]
[null,null,null,null,null,null,"Ihr Spezialist für Nachzuchtkorallen aus Österreich"]
[null,null,null,null,null,null,"1120 Wien, Stranitzkygasse 5"]
[null,null,null,null,null,null,"0664/3972620"]
[null,null,null,null,null,null,"info@korallenfarm.at"]
[null,null,null,null,null,null,"www.korallenfarm.at"]
["Dosierung KF-Plus - Produkte"]
["Kanister:","Ballingflüssigkeiten",null,"5 Liter","1 Liter",null,null,"Faktor"]
["j","Calziumchloriddihydrat",null,1835,{"$f":"D9/5","v":367},null,null,3.6700000000000001E-3]
["k","natriumchloridfreie Salzmischung",null,125,{"$f":"D10/5","v":25},null,null,30.2]
["l","Natriumhydrogencarbonat",null,420,{"$f":"D11/5","v":84}]
[null,"Magnesiumchloridhexahydrat",null,{"$f":"E12*5","v":4180},836,null,null,8.36]
[null,"Kalium",null,null,191,null,null,0.1]
[null,"Strontium",null,null,30.47,null,null,0.01]
[]
[null,null,"Aquarienvolumen",500]
[]
[null,null,"KF-Plus Calzium","KF-Plus Karbonat","KF-Plus Magnesium","KF-Plus Kalium","KF-Plus Strontium"]
["Sollwert",null,420,8,1300,390,8]
["IST-Wert",null,400,7,1290,350,7]
["Zugabe in g:",null,{"$f":"$D$16*(C19-C20)*H9","v":36.700000000000003},{"$f":"$D$16*(D19-D20)*H10/1000","v":15.1},{"$f":"$D$16*(E19-E20)*H12/1000","v":41.8},{"$f":"$D$16*(F19-F20)*#REF!/1000","v":{"$error":"#REF!"}},{"$f":"$D$16*(G19-G20)*I12/1000","v":0}]
["Zugabe der Lösung in ml",null,{"$f":"(C21/E9)*1000","v":100},{"$f":"(D21/E11)*1000","v":179.76190476190476},{"$f":"$D$16*(E19-E20)/100","v":50},{"$f":"(F19-F20)*$D$16/$H$13/1000","v":200},{"$f":"(G19-G20)*$D$16/$H$14/1000","v":50}]
["Zugabe verteilen auf ",null,{"$f":"C21/20","v":1.8350000000000002},{"$f":"(D19-D20)/2","v":0.5},{"$f":"(E19-E20)/50","v":0.2},{"$f":"(F19-F20)/5","v":8},{"$f":"(G19-G20)/1","v":1}]

{"sheet":"Balling","index":3,"n_rows":18,"n_cols":13,"rows_kept":18,"cut":false,"hidden":false,"merged":[[10,8,10,9],[8,8,8,12],[8,0,8,4]]}
[null,null,null,null,null,null,null,null,null,null,null,null,"Korallenfarm.at"]
[null,null,null,null,null,null,null,null,null,null,null,null,"Ihr Spezialist für Nachzuchtkorallen aus Österreich"]
[null,null,null,null,null,null,null,null,null,null,null,null,"1120 Wien, Stranitzkygasse 5"]
[null,null,null,null,null,null,null,null,null,null,null,null,"0664/3972620"]
[null,null,null,null,null,null,null,null,null,null,null,null,"info@korallenfarm.at"]
[null,null,null,null,null,null,null,null,null,null,null,null,"www.korallenfarm.at"]
[]
[]
["Definition der Ballingflüssigkeiten",null,null,null,null,null,null,null,"Berechnung der Ballingflüssigkeiten"]
[]
[null,null,null,null,null,null,null,null,"Aquarienvolumen:",null,500]
[]
[null,null,null,null,null,null,null,null,null,null,"Calzium","kH","Magnesium"]
["Kanister:","Ballingflüssigkeiten",null,"5 Liter","1 Liter","Standard für \n5 Liter Balling","Faktor",null,"Sollwert",null,420,7.5,1300]
["j","Calziumchloriddihydrat",null,368,{"$f":"D15/5","v":73.599999999999994},368,3.6700000000000001E-3,null,"IST-Wert",null,400,6,1150]
["k","natriumchloridfreie Salzmischung",null,125,{"$f":"D16/5","v":25},125,null,null,"Zugabe in g:",null,{"$f":"$K$11*(K14-K15)*G15","v":36.700000000000003},{"$f":"$K$11*(L14-L15)*G17/1000","v":22.65},{"$f":"$K$11*(M14-M15)*G18/1000","v":627}]
["l","Natriumhydrogencarbonat",null,420,{"$f":"D17/5","v":84},420,30.2,null,"Zugabe der Lösung in ml",null,{"$f":"(K16/E15)*1000","v":498.64130434782618},{"$f":"(L16/E17)*1000","v":269.64285714285711},{"$f":"$K$11*(M14-M15)/100","v":750}]
[null,"Magnesiumchloridhexahydrat",null,{"$f":"E18*5","v":4180},836,4180,8.36,null,"Zugabe verteilen auf ",null,{"$f":"K16/20","v":1.8350000000000002},{"$f":"(L14-L15)/2","v":0.75},{"$f":"(M14-M15)/50","v":3}]

{"sheet":"Erklärung","index":4,"n_rows":43,"n_cols":11,"rows_kept":43,"cut":false,"hidden":false,"merged":[]}
[null,null,null,null,null,null,null,null,null,null,"Korallenfarm.at"]
[null,null,null,null,null,null,null,null,null,null,"Ihr Spezialist für Nachzuchtkorallen aus Österreich"]
[null,null,null,null,null,null,null,null,null,null,"1120 Wien, Stranitzkygasse 5"]
[null,null,null,null,null,null,null,null,null,null,"0664/3972620"]
[null,null,null,null,null,null,null,null,null,null,"info@korallenfarm.at"]
[null,null,null,null,null,null,null,null,null,null,"www.korallenfarm.at"]
[]
["Haftungsausschluß"]
["Klingt seltsam - muss aber sein:"]
["Die Korallenfarm übernimmt keine Haftung für ev. Schäden, die auf Fehler oder falsche Dosierungen, die sich aus den Tabellen errechnen ergeben!!!"]
["Und das hat einen einfachen Grund:"]
["Die Berechnungen beruhen auf dem Buch \"Meerwasserchemie\" von Armin Glaser und funktionieren 100%ig. Wir in der Korallenfarm verwenden sie schon seit Jahren mit Erfolg"]
["Was aber niemand von uns genau weiß ist das tatsächliche Wasservolumen (abzüglich der Lebendsteine, Sand, Technik!!!) seines Aquariums."]
["Daher bitte anfangs ca. 10% von Eurem Beckenvolumen abziehen und so eingeben (also z.B. 450 bei einem 500-Liter-Becken)"]
["Danach die Zugaben nachmessen!!!! Erreichst Du nach der Zugabe zu geringe Werte, kannst Du dann den Wert beim Beckenvolumen langsam erhöhen, bis"]
["die errechneten Werte mit den tatsächlichen übereinstimmen."]
[]
["Messwerte:"]
["Zuerst musst Du in den grünen Feldern Dein Beckenvolumen und Deine \"Standardwerte\" eintragen."]
["Dann kannst Du Deine regelmäßigen Messwerte eintragen. Es wird Dir auch gleich das ev. fehlende Calzium und die Karbonathärte berechnet."]
["Wichtig: Für die Berechnung wird das herangezogen, was Du in der Tabelle \"Balling\" bei der Definition der Ballingflüssigkeiten eingetragen hast, herangezogen."]
[]
["Diagramm:"]
["Hier wird Dir für jeden Wert, den Du bei \"Messwerte\" einträgst, ein Diagramm angezeigt."]
[]
["KF-Plus-Produkte"]
["Zuerst musst Du in den grünen Feldern Dein Beckenvolumen und Deine gemessenen Werte eintragen. "]
["Die Tabelle errechnet automatisch die Zugabe der entsprechenden KF-Plus-Produkte, um auf den \"SOLL-Wert\" zu kommen"]
[]
["Balling:"]
["Bei der \"Definition der Ballingflüssigkeiten\" tragst Du in den grünen Feldern ein, wie Du Deine Ballingflüssigkeiten ansetzt."]
["In der Tabelle sind die \"Standard-Werte\", die von H.W. Balling so definiert wurden, schon eingetragen. "]
["Die vorgeschlagenen Werte zur Korrektur in der Tabelle Messwerte bezieht sich ebenfalls auf diese Definition"]
["Wichtig: ","Wenn Du z.B. beim Calzium 368g auf 5 Liter ansetzt dann heißt dass NICHT dass Du einfach 368g Calziumchloriddihydrat "]
[null,"in 5 Liter Wasser einfüllst. Du würdest dann mehr als 5 Liter Ballingflüssigkeit haben."]
[null,"Richtig ist es, die 368g in 4 Liter Osmosewasser einzurühren und nach Auflösung auf 5 Liter aufzufüllen!!!!"]
[null,"Genauso ist bei allen anderen Ballingflüssigkeiten zu verfahren."]
[]
["Berechnung der Ballingflüssigkeiten:"]
["Du kannst in den grünen Feldern Dein Beckenvolumen und die gemessenen Werte eintragen"]
["In den blauen Feldern kannst Du die Werte eintragen, die Du erreichen willst"]
["In den roten Feldern wird Dir nun automatisch ausgerechnet, wieviel g vom Salz bzw. wieviel ml von der Ballinglösung Du benötigst,"]
["um auf die gewünschen Werte zu kommen und auf wieviele Tage man die Erhöhung verteilen sollte."]